BEGIN:VCALENDAR
VERSION:2.0
PRODID:-//AudioTheme 1.8.2
BEGIN:VEVENT
UID:http://arianedubillard.com/?post_type=audiotheme_gig&#038;p=26
URL:http://arianedubillard.com/evenements/le-bal-direne-nemirovski-5/
DTSTART;TZID=GMT:20151120T193000
SUMMARY:Le Bal, d'Irène Némirovski
DESCRIPTION:Marilu Production : Christophe Segura en accord avec Les Sirènes en Pantoufle présente : Lucie Barret\, Brigitte Faure\, Serge Noël\, Ariane Dubillard\, Michel Tavernier\, Esteban Chaillis.  Le Bal\, d'Irène Némirovski\,  Adaptation de Virginie Lemoine.  Mise en scène de Virginie Lemoine et Marie Chevalot
LOCATION:Théâtre de l’Atrium\, 3 Parvis Robert Schuman   \, Chaville\, \, France\, 92370
END:VEVENT
END:VCALENDAR