BEGIN:VCALENDAR
VERSION:2.0
PRODID:-//AudioTheme 1.8.2
BEGIN:VEVENT
UID:http://arianedubillard.com/?post_type=audiotheme_gig&#038;p=10
URL:http://arianedubillard.com/evenements/le-bal-direne-nemirovsky/
DTSTART;TZID=GMT:20151106T193000
SUMMARY:Le Bal, d'Irène Némirovsky
DESCRIPTION:Marilu Production : Christophe Segura en accord avec Les Sirènes en Pantoufle présente : Lucie Barret\, Brigitte Faure\, Serge Noël\, Ariane Dubillard\, Michel Tavernier\, Esteban Chaillis.  Le Bal\, d'Irène Némirovski\,  Adaptation de Virginie Lemoine.  Mise en scène de Virginie Lemoine et Marie Chevalot
LOCATION:Théâtre Olympe de Gouge\, 4 Place Lefranc de Pompignan  \, MONTAUBAN\, \, France\, 82000
END:VEVENT
END:VCALENDAR