BEGIN:VCALENDAR
VERSION:2.0
PRODID:-//AudioTheme 1.8.2
BEGIN:VEVENT
UID:http://arianedubillard.com/?post_type=audiotheme_gig&#038;p=218
URL:http://arianedubillard.com/evenements/soiree-irene-nemirovsky/
DTSTART;VALUE=DATE:20160215
SUMMARY:Soirée Irène Nemirovsky
DESCRIPTION:Lecture de nouvelles d'Irène Nemirovsky\, orchestrée par Virginie Lemoine et Olivier Philipponat avec Isabelle Serrand au piano.  Comédiens : Lucie Barret\, Ariane Dubillard\, Brigitte Faure\, Serge Noël et Ariane Pirie.  Réservation indispensable.
LOCATION:Maison des auteurs\, 7 Rue Ballu\, Paris\, \, France\, 75009
END:VEVENT
END:VCALENDAR